BEGIN:VCALENDAR
VERSION:2.0
PRODID:-//Cello Lessons with Dorothy - ECPv6.15.20//NONSGML v1.0//EN
CALSCALE:GREGORIAN
METHOD:PUBLISH
X-WR-CALNAME:Cello Lessons with Dorothy
X-ORIGINAL-URL:https://dorothyolsen.com
X-WR-CALDESC:Events for Cello Lessons with Dorothy
REFRESH-INTERVAL;VALUE=DURATION:PT1H
X-Robots-Tag:noindex
X-PUBLISHED-TTL:PT1H
BEGIN:VTIMEZONE
TZID:America/Denver
BEGIN:DAYLIGHT
TZOFFSETFROM:-0700
TZOFFSETTO:-0600
TZNAME:MDT
DTSTART:20250309T090000
END:DAYLIGHT
BEGIN:STANDARD
TZOFFSETFROM:-0600
TZOFFSETTO:-0700
TZNAME:MST
DTSTART:20251102T080000
END:STANDARD
BEGIN:DAYLIGHT
TZOFFSETFROM:-0700
TZOFFSETTO:-0600
TZNAME:MDT
DTSTART:20260308T090000
END:DAYLIGHT
BEGIN:STANDARD
TZOFFSETFROM:-0600
TZOFFSETTO:-0700
TZNAME:MST
DTSTART:20261101T080000
END:STANDARD
BEGIN:DAYLIGHT
TZOFFSETFROM:-0700
TZOFFSETTO:-0600
TZNAME:MDT
DTSTART:20270314T090000
END:DAYLIGHT
BEGIN:STANDARD
TZOFFSETFROM:-0600
TZOFFSETTO:-0700
TZNAME:MST
DTSTART:20271107T080000
END:STANDARD
END:VTIMEZONE
BEGIN:VEVENT
DTSTART;TZID=America/Denver:20260502T133000
DTEND;TZID=America/Denver:20260502T150000
DTSTAMP:20260419T212221
CREATED:20260420T022143Z
LAST-MODIFIED:20260420T022327Z
UID:5756-1777728600-1777734000@dorothyolsen.com
SUMMARY:Women Self-Defense Class
DESCRIPTION:
URL:https://dorothyolsen.com/event/women-self-defense-class/
LOCATION:American Fork Fitness Center
END:VEVENT
BEGIN:VEVENT
DTSTART;TZID=America/Denver:20260509T133000
DTEND;TZID=America/Denver:20260509T150000
DTSTAMP:20260419T212221
CREATED:20260420T022239Z
LAST-MODIFIED:20260420T022239Z
UID:5758-1778333400-1778338800@dorothyolsen.com
SUMMARY:Women Self-Defense Class
DESCRIPTION:
URL:https://dorothyolsen.com/event/women-self-defense-class-2/
LOCATION:American Fork Fitness Center
END:VEVENT
BEGIN:VEVENT
DTSTART;VALUE=DATE:20260618
DTEND;VALUE=DATE:20260621
DTSTAMP:20260419T212221
CREATED:20260420T022437Z
LAST-MODIFIED:20260420T031554Z
UID:5761-1781740800-1781999999@dorothyolsen.com
SUMMARY:Peaceful Power Retreat
DESCRIPTION:As the founding creator of Peaceful Power Retreat\, Dorothy Olsen offers qigong\, yoga\, women’s self-defense\, and a candlelight solo cello recital\, Healing Music\, as part of this unique retreat experience.
URL:https://dorothyolsen.com/event/peaceful-power-retreat/
END:VEVENT
BEGIN:VEVENT
DTSTART;VALUE=DATE:20260912
DTEND;VALUE=DATE:20260913
DTSTAMP:20260419T212221
CREATED:20260420T021935Z
LAST-MODIFIED:20260420T025616Z
UID:5753-1789171200-1789257599@dorothyolsen.com
SUMMARY:Reclaiming the Woman in the Wilderness- offering Rooted yoga
DESCRIPTION:
URL:https://dorothyolsen.com/event/reclaiming-the-woman-in-the-wilderness/
LOCATION:The Lodge at Traverse Mountain
END:VEVENT
END:VCALENDAR